Workbook

Sheet صورت وضعیت پرتفوی
A18: صندوق سرمایه‌گذاری کالایی درفش دماوند
A19: ‫صورت وضعیت پورتفوی
A20: در اجرای ابلاغیه شماره 12020093 مورخ 1396/09/05 سازمان بورس و اوراق بهادار
A21: ‫دوره یک ماهه منتهی به 31 شهریور 1405
C25: .

Sheet گواهی شمش
A1: صندوق سرمایه‌گذاری کالایی درفش دماوند
A2: صورت وضعیت پرتفوی
A3: به تاریخ 31 شهریور 1405
A4: 1- سرمایه‌گذاری‌ها
A5: 1-1-سرمایه‌گذاری درگواهی سپرده کالایی و اختیار معاملات
C6: (مبالغ به ریال)
C7: 1405/05/31 | I7: تغییرات طی دوره | Q7: 1405/06/31
C8: تعداد | E8: بهای تمام شده | G8: خالص ارزش فروش | I8: خرید طی دوره | M8: فروش طی دوره | Q8: تعداد | S8: قیمت بازار هر سهم | U8: بهای تمام شده | W8: خالص ارزش فروش | Y8: درصد به کل دارایی ها‌
I9: تعداد | K9: بهای تمام شده | M9: تعداد | O9: مبلغ فروش | AA9: 42348178792786
A10: شمش طلا GoldBar | C10: 1208000 | E10: 18263556508601 | G10: 33742822400000 | I10: 209307 | K10: 6384174859528 | M10: -142179 | O10: -4359727415651 | Q10: 1275128 | S10: 31770000 | U10: 22290279137133 | W10: 40413590600256 | Y10: =W10/$AA$9*100 -> 95.431709
A11: اختیار خرید گواهی سپرده پیوسته شمش طلای +995 GBAB05C1800 18000000.0000-1405/08/19 | C11: 52070 | E11: 629952107317 | G11: 722904472400 | I11: 4 | K11: 60973075 | M11: 0 | O11: 0 | Q11: 40425 | S11: 14451579 | U11: 489079560311 | W11: 583504034977 | Y11: =W11/$AA$9*100 -> 1.3778728
A12: اختیار خرید گواهی سپرده پیوسته شمش طلای +995 GBAB05C2200 22000000.0000-1405/08/19 | C12: 29385 | E12: 263060435340 | G12: 261212668200 | I12: 9 | K12: 93311827 | M12: 0 | O12: 0 | Q12: 29000 | S12: 11799998 | U12: 259626608577 | W12: 341789302069 | Y12: =W12/$AA$9*100 -> 0.80709327
A13: اختیار خرید گواهی سپرده پیوسته شمش طلای +995 GBAB05C2000 20000000.0000-1405/08/19 | C13: 20500 | E13: 217533689208 | G13: 251847092393 | I13: 18 | K13: 227697868 | M13: 0 | O13: 0 | Q13: 20513 | S13: 12700000 | U13: 217708326799 | W13: 260202481880 | Y13: =W13/$AA$9*100 -> 0.61443606
A14: اختیار خرید گواهی سپرده پیوسته شمش طلای +995 GBBA05C1800 18000000.0000-1405/11/27 | C14: 5000 | E14: 65314618621 | G14: 69916000000 | I14: 8020 | K14: 1.1728998e+11 | M14: 0 | O14: 0 | Q14: 13020 | S14: 17669999 | U14: 182604595312 | W14: 229787310915 | Y14: =W14/$AA$9*100 -> 0.54261439
A15: اختیار خرید گواهی سپرده پیوسته شمش طلای +995 GBOR06C2000 20000000.0000-1406/02/18 | C15: 5000 | E15: 75308525037 | G15: 75176729540 | I15: 4500 | K15: 7.3474514e+10 | M15: 0 | O15: 0 | Q15: 9500 | S15: 17500000 | U15: 148783039089 | W15: 166050500000 | Y15: =W15/$AA$9*100 -> 0.39210777
A16: اختیار خرید گواهی سپرده پیوسته شمش طلای +995 GBOR06C2200 22000000.0000-1406/02/18 | C16: 0 | E16: 0 | G16: 0 | I16: 10000 | K16: 148312640680 | M16: 0 | O16: 0 | Q16: 10000 | S16: 16100000 | U16: 148312640680 | W16: 160806800000 | Y16: =W16/$AA$9*100 -> 0.37972542
A17: اختیار خرید گواهی سپرده پیوسته شمش طلای +995 GBAB05C2400 24000000.0000-1405/08/19 | C17: 9270 | E17: 74482207081 | G17: 83329884000 | I17: 6 | K17: 45053994 | M17: 0 | O17: 0 | Q17: 9259 | S17: 9999996 | U17: 74390676132 | W17: 92478855008 | Y17: =W17/$AA$9*100 -> 0.21837741
C18: =SUM(C10:C17) -> 1329225 | E18: =SUM(E10:E17) -> 19589208091205 | G18: =SUM(G10:G17) -> 35207209246533 | I18: =SUM(I10:I17) -> 231864 | K18: =SUM(K10:K17) -> 6.723679e+12 | M18: =SUM(M10:M17) -> -142179 | O18: =SUM(O10:O17) -> -4359727415651 | Q18: =SUM(Q10:Q17) -> 1406845 | U18: =SUM(U10:U17) -> 23810784584033 | W18: =SUM(W10:W17) -> 42248209885105 | Y18: =SUM(Y10:Y17) -> 99.763936
E20: 18263556508601 | G20: 15479265891399 | I20: 231864 | K20: 6723679027715 | M20: -142179 | O20: -4359727415651 | Q20: 1406845 | U20: 22290279137133 | W20: 18123311463123 | Y20: 95.43
E21: 1325651582604 | G21: 138735263929 | I21: =I20-I18 -> 0 | K21: =K20-K18 -> -0.11328125 | M21: =M20-M18 -> 0 | O21: =O20-O18 -> 0 | Q21: =Q20-Q18 -> 0 | U21: 1520505446900 | W21: 314113837949 | Y21: 4.33
E22: =E20+E21 -> 19589208091205 | G22: =G20+G21 -> 15618001155328 | U22: =SUM(U20:U21) -> 23810784584033 | W22: =SUM(W20:W21) -> 18437425301072 | Y22: =SUM(Y20:Y21) -> 99.76
E23: =E22-E18 -> 0 | G23: =E22+G22 -> 35207209246533 | U23: =U22-U18 -> 0 | W23: =U22+W22 -> 42248209885105 | Y23: =Y22-Y18 -> -0.003935757
G24: =G23-G18 -> 0 | W24: =W23-W18 -> 0

Sheet اوراق مشتقه
A1: صندوق سرمایه‌گذاری کالایی درفش دماوند
A2: صورت وضعیت پرتفوی
A3: ='گواهی شمش'!A3:Y3 -> به تاریخ 31 شهریور 1405
A5: اطلاعات آماری مرتبط با موقعیت‌های اخذ شده در اوراق اختیار معامله توسط صندوق سرمایه گذاری:
C6: (مبالغ به ریال)
C7: ='گواهی شمش'!C7 -> 1405/05/31 | M7: ='گواهی شمش'!Q7 -> 1405/06/31
A8: نام اختیار معاملات کالا | C8: نوع اختیار | E8: نوع موقعیت | G8: تعداد اوراق | I8: قیمت اعمال | K8: تاریخ اعمال | M8: نوع اختیار | O8: نوع موقعیت | Q8: تعداد اوراق | S8: قیمت اعمال | U8: تاریخ اعمال
A9: اختیار خرید گواهی سپرده پیوسته شمش طلای +995 GBAB05C1800 18,000,000-1405/08/19 | C9: اختیار خرید | E9: موقعیت خرید | G9: 52070 | I9: =18*1000000 -> 18000000 | K9: 1405/08/19 | M9: اختیار خرید | O9: موقعیت خرید | Q9: 40425 | S9: =18*1000000 -> 18000000 | U9: 1405/08/19
A10: اختیار خرید گواهی سپرده پیوسته شمش طلای +995 GBAB05C2000 20,000,000-1405/08/19 | C10: اختیار خرید | E10: موقعیت خرید | G10: 20500 | I10: =20*1000000 -> 20000000 | K10: 1405/08/19 | M10: اختیار خرید | O10: موقعیت خرید | Q10: 20513 | S10: =20*1000000 -> 20000000 | U10: 1405/08/19
A11: اختیار خرید گواهی سپرده پیوسته شمش طلای +995 GBAB05C2200 22,000,000-1405/08/19 | C11: اختیار خرید | E11: موقعیت خرید | G11: 29385 | I11: =22*1000000 -> 22000000 | K11: 1405/08/19 | M11: اختیار خرید | O11: موقعیت خرید | Q11: 29000 | S11: =22*1000000 -> 22000000 | U11: 1405/08/19
A12: اختیار خرید گواهی سپرده پیوسته شمش طلای +995 GBAB05C2400 24,000,000-1405/08/19 | C12: اختیار خرید | E12: موقعیت خرید | G12: 9270 | I12: =24*1000000 -> 24000000 | K12: 1405/08/19 | M12: اختیار خرید | O12: موقعیت خرید | Q12: 9259 | S12: =24*1000000 -> 24000000 | U12: 1405/08/19
A13: اختیار خرید گواهی سپرده پیوسته شمش طلای +995 GBBA05C1800 18,000,000-1405/11/27 | C13: اختیار خرید | E13: موقعیت خرید | G13: 5000 | I13: =18*1000000 -> 18000000 | K13: 1405/11/27 | M13: اختیار خرید | O13: موقعیت خرید | Q13: 13020 | S13: =18*1000000 -> 18000000 | U13: 1405/11/27
A14: اختیار خرید گواهی سپرده پیوسته شمش طلای +995 GBOR06C2000 20,000,000-1406/02/18 | C14: اختیار خرید | E14: موقعیت خرید | G14: 5000 | I14: =20*1000000 -> 20000000 | K14: 1406/02/18 | M14: اختیار خرید | O14: موقعیت خرید | Q14: 9500 | S14: =20*1000000 -> 20000000 | U14: 1406/02/18
A15: اختیار خرید گواهی سپرده پیوسته شمش طلای +995 GBOR06C2200 22,000,000-1406/02/18 | C15: اختیار خرید | E15: - | G15: 0 | I15: 0 | K15: - | M15: اختیار خرید | O15: موقعیت خرید | Q15: 10000 | S15: =22*1000000 -> 22000000 | U15: 1406/02/18

Sheet سپرده
A1: ='گواهی شمش'!A1 -> صندوق سرمایه‌گذاری کالایی درفش دماوند
A2: صورت وضعیت پرتفوی
A3: ='گواهی شمش'!A3 -> به تاریخ 31 شهریور 1405
A5: 2-1-سرمایه‌گذاری در سپرده‌ بانکی
C6: (مبالغ به ریال)
C7: ='گواهی شمش'!C7 -> 1405/05/31 | E7: تغییرات طی دوره | I7: ='گواهی شمش'!Q7 -> 1405/06/31
A8: سپرده‌های بانکی | C8: مبلغ | E8: افزایش | G8: کاهش | I8: مبلغ | K8: درصد به کل دارایی ها | M8: ='گواهی شمش'!AA9 -> 42348178792786
A9: بانک پاسارگاد | C9: 1345867159 | E9: 7126760715326 | G9: -7128105390000 | I9: =C9+E9+G9 -> 1192485 | K9: =I9/$M$8*100 -> 2.8159062e-06
A10: بانک گردشگری | C10: 8661913 | E10: 3583169121772 | G10: -3581443157831 | I10: =C10+E10+G10 -> 1734625854 | K10: =I10/$M$8*100 -> 0.004096105
C11: =SUM(C9:C10) -> 1354529072 | E11: =SUM(E9:E10) -> 10709929837098 | G11: =SUM(G9:G10) -> -10709548547831 | I11: =SUM(I9:I10) -> 1735818339 | K11: =SUM(K9:K10) -> 0.0040989209
C13: 1354529072 | E13: 10709929837098 | G13: -10709548547831 | I13: =C13+E13+G13 -> 1735818339 | K13: 0
C14: =C13-C11 -> 0 | E14: =E13-E11 -> 0 | G14: =G13-G11 -> 0 | I14: =I13-I11 -> 0 | K14: =K13-K11 -> -0.0040989209

Sheet درآمد
A1: ='گواهی شمش'!A1 -> صندوق سرمایه‌گذاری کالایی درفش دماوند
A2: صورت وضعیت درآمدها
A3: یک ماهه منتهی به 31 شهریور 1405
A5: 2- درآمد حاصل از سرمایه‌گذاری‌ها
C6: ='گواهی شمش'!C6 -> (مبالغ به ریال)
A7: شرح | C7: یادداشت | E7: مبلغ | G7: درصد از کل درآمدها | I7: درصد از کل دارایی‌ها
A8: درآمد حاصل از سرمایه‌گذاری درگواهی سپرده‌های کالایی و اختیار معاملات کالا | C8: 1-2 | E8: ='درآمد سرمایه گذاری در گواهی'!S32 -> 21260936369043 | G8: =E8/E11*100 -> 99.999453 | I8: =E8/35221920536640*100 -> 60.362797
A9: درآمد حاصل از سرمایه‌گذاری در سپرده بانکی | C9: 2-2 | E9: ='درآمد سپرده بانکی'!G13 -> 120493441 | G9: =E9/E11*100 -> 0.00056673319 | I9: =E9/35221920536640*100 -> 0.00034209787
A10: سایر درآمد | C10: 2-3 | E10: ='سایر درآمدها'!E9 -> -4239495 | G10: =E10/E11*100 -> -1.9940193e-05 | I10: =E10/35221920536640*100 -> -1.2036524e-05
E11: =SUM(E8:E10) -> 21261052622989 | G11: =SUM(G8:G10) -> 100 | I11: =SUM(I8:I10) -> 60.363127
E13: 21261052622989
E14: =E13-E11 -> 0

Sheet درآمد سرمایه گذاری در گواهی
A1: ='گواهی شمش'!A1 -> صندوق سرمایه‌گذاری کالایی درفش دماوند
A2: صورت وضعیت درآمدها
A3: =درآمد!A3 -> یک ماهه منتهی به 31 شهریور 1405
A5: 2-1-درآمد حاصل از سرمایه‌گذاری در گواهی سپرده‌های کالایی و اختیار معاملات کالا
C6: (مبالغ به ریال)
C7: طی شهریورماه | M7: از ابتدای سال مالی تا پایان شهریور ماه
C8: درآمد سود سهام | E8: درآمد تغییر ارزش | G8: درآمد فروش | I8: جمع | M8: درآمد سود سهام | O8: درآمد تغییر ارزش | Q8: درآمد فروش | S8: جمع
C9: یادداشت 1-1-2 | E9: یادداشت 2-1-2 | G9: یادداشت 3-1-2 | I9: مبلغ | K9: درصد از کل درآمدها | M9: یادداشت 1-1-2 | O9: یادداشت 2-1-2 | Q9: یادداشت 3-1-2 | S9: مبلغ | U9: درصد از کل درآمدها
A10: اختیار خرید گواهی سپرده پیوسته شمش طلای +995 GBAB05C1800 18000000-1405/08/19 | C10: 0 | E10: 1472109583 | G10: 32721479919 | I10: =C10+E10+G10 -> 34193589502 | K10: =I10/$I$32*100 -> 0.70280911 | M10: 0 | O10: =VLOOKUP(A10,'درآمد ناشی از تغییر قیمت '!A:Q,17,0) -> 94424474666 | Q10: 32921717781 | S10: =M10+O10+Q10 -> 127346192447 | U10: =S10/$S$32*100 -> 0.59896794
A11: اختیار خرید گواهی سپرده پیوسته شمش طلای +995 GBBA04C900 9000000-1404/11/19 | C11: 0 | E11: 0 | G11: 0 | I11: =C11+E11+G11 -> 0 | K11: =I11/$I$32*100 -> 0 | M11: 0 | O11: 0 | Q11: 21986883549 | S11: =M11+O11+Q11 -> 21986883549 | U11: =S11/$S$32*100 -> 0.10341446
A12: اختیار خرید گواهی سپرده پیوسته شمش طلای +995 GBBA04C1050 10500000-1404/11/19 | C12: 0 | E12: 0 | G12: 0 | I12: =C12+E12+G12 -> 0 | K12: =I12/$I$32*100 -> 0 | M12: 0 | O12: 0 | Q12: 13506334256 | S12: =M12+O12+Q12 -> 13506334256 | U12: =S12/$S$32*100 -> 0.063526526
A13: اختیار خرید گواهی سپرده پیوسته شمش طلای +995 GBBA04C800 8000000-1404/11/19 | C13: 0 | E13: 0 | G13: 0 | I13: =C13+E13+G13 -> 0 | K13: =I13/$I$32*100 -> 0 | M13: 0 | O13: 0 | Q13: 12192942597 | S13: =M13+O13+Q13 -> 12192942597 | U13: =S13/$S$32*100 -> 0.057349039
A14: اختیار خرید گواهی سپرده پیوسته شمش طلای +995 GBAB04C800 8000000-1404/08/18 | C14: 0 | E14: 0 | G14: 0 | I14: =C14+E14+G14 -> 0 | K14: =I14/$I$32*100 -> 0 | M14: 0 | O14: 0 | Q14: 11623371119 | S14: =M14+O14+Q14 -> 11623371119 | U14: =S14/$S$32*100 -> 0.054670081
A15: اختیار خرید گواهی سپرده پیوسته شمش طلای +995 GBAB04C900 9000000-1404/08/18 | C15: 0 | E15: 0 | G15: 0 | I15: =C15+E15+G15 -> 0 | K15: =I15/$I$32*100 -> 0 | M15: 0 | O15: 0 | Q15: 9403317173 | S15: =M15+O15+Q15 -> 9403317173 | U15: =S15/$S$32*100 -> 0.044228142
A16: اختیار خرید گواهی سپرده پیوسته شمش طلای +995 GBBA04C950 9500000-1404/11/19 | C16: 0 | E16: 0 | G16: 0 | I16: =C16+E16+G16 -> 0 | K16: =I16/$I$32*100 -> 0 | M16: 0 | O16: 0 | Q16: 7953236119 | S16: =M16+O16+Q16 -> 7953236119 | U16: =S16/$S$32*100 -> 0.037407742
A17: اختیار خرید گواهی سپرده پیوسته شمش طلای +995 GBBA04C1000 10000000-1404/11/19 | C17: 0 | E17: 0 | G17: 0 | I17: =C17+E17+G17 -> 0 | K17: =I17/$I$32*100 -> 0 | M17: 0 | O17: 0 | Q17: 7851327396 | S17: =M17+O17+Q17 -> 7851327396 | U17: =S17/$S$32*100 -> 0.036928418
A18: اختیار خرید گواهی سپرده پیوسته شمش طلای +995 GBAB04C950 9500000-1404/08/18 | C18: 0 | E18: 0 | G18: 0 | I18: =C18+E18+G18 -> 0 | K18: =I18/$I$32*100 -> 0 | M18: 0 | O18: 0 | Q18: 3737822385 | S18: =M18+O18+Q18 -> 3737822385 | U18: =S18/$S$32*100 -> 0.017580704
A19: اختیار خرید گواهی سپرده پیوسته شمش طلای +995 GBAB04C1000 10000000-1404/08/18 | C19: 0 | E19: 0 | G19: 0 | I19: =C19+E19+G19 -> 0 | K19: =I19/$I$32*100 -> 0 | M19: 0 | O19: 0 | Q19: 2323243497 | S19: =M19+O19+Q19 -> 2323243497 | U19: =S19/$S$32*100 -> 0.010927287
A20: اختیار خرید گواهی سپرده پیوسته شمش طلای +995 GBAB04C1100 11000000-1404/08/18 | C20: 0 | E20: 0 | G20: 0 | I20: =C20+E20+G20 -> 0 | K20: =I20/$I$32*100 -> 0 | M20: 0 | O20: 0 | Q20: 993815288 | S20: =M20+O20+Q20 -> 993815288 | U20: =S20/$S$32*100 -> 0.0046743721
A21: اختیار خرید گواهی سپرده پیوسته شمش طلای +995 GBAB04C1050 10500000-1404/08/18 | C21: 0 | E21: 0 | G21: 0 | I21: =C21+E21+G21 -> 0 | K21: =I21/$I$32*100 -> 0 | M21: 0 | O21: 0 | Q21: 950536282 | S21: =M21+O21+Q21 -> 950536282 | U21: =S21/$S$32*100 -> 0.004470811
A22: اختیار خرید گواهی سپرده پیوسته شمش طلای +995 GBAB04C1200 12000000-1404/08/18 | C22: 0 | E22: 0 | G22: 0 | I22: =C22+E22+G22 -> 0 | K22: =I22/$I$32*100 -> 0 | M22: 0 | O22: 0 | Q22: 824652506 | S22: =M22+O22+Q22 -> 824652506 | U22: =S22/$S$32*100 -> 0.0038787215
A23: اختیار خرید گواهی سپرده پیوسته شمش طلای +995 GBAB05C2200 22000000-1405/08/19 | C23: 0 | E23: 84010460632 | G23: 310361410 | I23: =C23+E23+G23 -> 84320822042 | K23: =I23/$I$32*100 -> 1.7331156 | M23: 0 | O23: =VLOOKUP(A23,'درآمد ناشی از تغییر قیمت '!A:Q,17,0) -> 82162693492 | Q23: 310361410 | S23: =M23+O23+Q23 -> 82473054902 | U23: =S23/$S$32*100 -> 0.38790886
A24: اختیار خرید گواهی سپرده پیوسته شمش طلای +995 GBAB05C2400 24000000-1405/08/19 | C24: 0 | E24: 9240501957 | G24: 32973049 | I24: =C24+E24+G24 -> 9273475006 | K24: =I24/$I$32*100 -> 0.1906054 | M24: 0 | O24: =VLOOKUP(A24,'درآمد ناشی از تغییر قیمت '!A:Q,17,0) -> 18088178876 | Q24: 32973049 | S24: =M24+O24+Q24 -> 18121151925 | U24: =S24/$S$32*100 -> 0.085232144
A25: اختیار خرید گواهی سپرده پیوسته شمش طلای +995 GBAB05C2000 20000000-1405/08/19 | C25: 0 | E25: 8180751896 | G25: 21439723 | I25: =C25+E25+G25 -> 8202191619 | K25: =I25/$I$32*100 -> 0.16858642 | M25: 0 | O25: =VLOOKUP(A25,'درآمد ناشی از تغییر قیمت '!A:Q,17,0) -> 42494155081 | Q25: 24827844 | S25: =M25+O25+Q25 -> 42518982925 | U25: =S25/$S$32*100 -> 0.19998641
A26: شمش طلا GoldBar | C26: 0 | E26: 2912614985154 | G26: 1744194289064 | I26: =C26+E26+G26 -> 4656809274218 | K26: =I26/$I$32*100 -> 95.71525 | M26: 0 | O26: =VLOOKUP(A26,'درآمد ناشی از تغییر قیمت '!A:Q,17,0) -> 15864637991366 | Q26: 4910517030065 | S26: =M26+O26+Q26 -> 20775155021431 | U26: =S26/$S$32*100 -> 97.715146
A27: اختیار خرید گواهی سپرده پیوسته شمش طلای +995 GBBA05C1800 18000000-1405/11/27 | C27: 0 | E27: 42581334224 | G27: 0 | I27: =C27+E27+G27 -> 42581334224 | K27: =I27/$I$32*100 -> 0.87520936 | M27: 0 | O27: =VLOOKUP(A27,'درآمد ناشی از تغییر قیمت '!A:Q,17,0) -> 47182715603 | Q27: 0 | S27: =M27+O27+Q27 -> 47182715603 | U27: =S27/$S$32*100 -> 0.2219221
A28: اختیار خرید گواهی سپرده پیوسته شمش طلای +995 GBOR06C2000 20000000-1406/02/18 | C28: 0 | E28: 17399256408 | G28: 0 | I28: =C28+E28+G28 -> 17399256408 | K28: =I28/$I$32*100 -> 0.3576213 | M28: 0 | O28: =VLOOKUP(A28,'درآمد ناشی از تغییر قیمت '!A:Q,17,0) -> 17267460911 | Q28: 0 | S28: =M28+O28+Q28 -> 17267460911 | U28: =S28/$S$32*100 -> 0.081216841
A29: اختیار خرید گواهی سپرده پیوسته شمش طلای +995 GBOR06C2200 22000000-1406/02/18 | C29: 0 | E29: 12494159320 | G29: 0 | I29: =C29+E29+G29 -> 12494159320 | K29: =I29/$I$32*100 -> 0.25680278 | M29: 0 | O29: =VLOOKUP(A29,'درآمد ناشی از تغییر قیمت '!A:Q,17,0) -> 12494159320 | Q29: 0 | S29: =M29+O29+Q29 -> 12494159320 | U29: =S29/$S$32*100 -> 0.0587658
A30: سکه طلا GoldCoin | C30: 0 | E30: 0 | G30: 0 | I30: =C30+E30+G30 -> 0 | K30: =I30/$I$32*100 -> 0 | M30: 0 | O30: 0 | Q30: 42384415013 | S30: =M30+O30+Q30 -> 42384415013 | U30: =S30/$S$32*100 -> 0.19935347
A31: شمش نقره SilverBar | C31: 0 | E31: 0 | G31: 0 | I31: =C31+E31+G31 -> 0 | K31: =I31/$I$32*100 -> 0 | M31: 0 | O31: 0 | Q31: 2645732399 | S31: =M31+O31+Q31 -> 2645732399 | U31: =S31/$S$32*100 -> 0.012444101
C32: =SUM(C10:C31) -> 0 | E32: =SUM(E10:E31) -> 3087993559174 | G32: =SUM(G10:G31) -> 1777280543165 | I32: =SUM(I10:I31) -> 4865274102339 | K32: =SUM(K10:K31) -> 100 | M32: =SUM(M10:M31) -> 0 | O32: =SUM(O10:O31) -> 16178751829315 | Q32: =SUM(Q10:Q31) -> 5082184539728 | S32: =SUM(S10:S31) -> 21260936369043 | U32: =SUM(U10:U31) -> 100
E34: ='درآمد ناشی از تغییر قیمت '!I16 -> 3087993559174 | G34: ='درآمد ناشی از فروش'!I13 -> 1744194289064 | I34: =E34+G36 -> 4865274102339 | O34: ='درآمد ناشی از تغییر قیمت '!Q16 -> 16178751829315 | Q34: ='درآمد ناشی از فروش'!Q11 -> 4955547177477 | S34: =O34+Q36 -> 21260936369043
E35: =E34-E32 -> 0 | G35: ='درآمد اعمال اختیار'!I25 -> 33086254101 | I35: =I34-I32 -> 0 | O35: =O34-O32 -> 0 | Q35: ='درآمد اعمال اختیار'!K25 -> 126637362251 | S35: =S34-S32 -> 0
G36: =G34+G35 -> 1777280543165 | Q36: =Q34+Q35 -> 5082184539728
G37: =G36-G32 -> 0 | Q37: =Q36-Q32 -> 0

Sheet درآمد سپرده بانکی
A1: ='گواهی شمش'!A1 -> صندوق سرمایه‌گذاری کالایی درفش دماوند
A2: صورت وضعیت درآمدها
A3: =درآمد!A3 -> یک ماهه منتهی به 31 شهریور 1405
A5: 2-2-درآمد حاصل از سرمایه‌گذاری در سپرده بانکی
C6: (مبالغ به ریال)
C7: ='درآمد سرمایه گذاری در گواهی'!C7 -> طی شهریورماه | G7: ='درآمد سرمایه گذاری در گواهی'!M7 -> از ابتدای سال مالی تا پایان شهریور ماه
A8: نام سپرده بانکی | C8: سود سپرده بانکی | E8: درصد سود به میانگین سپرده | G8: سود سپرده بانکی | I8: درصد سود به میانگین سپرده
C9: یادداشت 1-2-2 | G9: یادداشت 1-2-2
A10: بانک ملت | C10: 0 | E10: =C10/$C$13*100 -> 0 | G10: 68597864 | I10: =G10/$G$13*100 -> 56.930787
A11: بانک پاسارگاد | C11: 5715326 | E11: =C11/$C$13*100 -> 99.363225 | G11: 51817037 | I11: =G11/$G$13*100 -> 43.004031
A12: بانک گردشگری | C12: 36627 | E12: =C12/$C$13*100 -> 0.63677502 | G12: 78540 | I12: =G12/$G$13*100 -> 0.065181971
C13: =SUM(C10:C12) -> 5751953 | E13: =SUM(E10:E12) -> 100 | G13: =SUM(G10:G12) -> 120493441 | I13: =SUM(I10:I12) -> 100
C15: ='سود سپرده بانکی'!C11 -> 5751953 | G15: ='سود سپرده بانکی'!M11 -> 120493441
C16: =C15-C13 -> 0 | G16: =G15-G13 -> 0

Sheet سایر درآمدها
A1: ='گواهی شمش'!A1 -> صندوق سرمایه‌گذاری کالایی درفش دماوند
A2: صورت وضعیت درآمدها
A3: =درآمد!A3 -> یک ماهه منتهی به 31 شهریور 1405
A5: 2-3- سایر درآمدها
C6: (مبالغ به ریال)
A7: سایر درآمدها | C7: ='درآمد سرمایه گذاری در گواهی'!C7 -> طی شهریورماه | E7: ='درآمد سرمایه گذاری در گواهی'!M7 -> از ابتدای سال مالی تا پایان شهریور ماه
A8: درآمد حاصل از تعدیل کارمزد کارگزاری | C8: -2278223277 | E8: -4239495
C9: =SUM(C8) -> -2278223277 | E9: =SUM(E8) -> -4239495
C11: -2278223277 | E11: -4239495
C12: =C11-C9 -> 0 | E12: =E11-E9 -> 0

Sheet سود سپرده بانکی
A1: ='گواهی شمش'!A1 -> صندوق سرمایه‌گذاری کالایی درفش دماوند
A2: صورت وضعیت درآمدها
A3: =درآمد!A3 -> یک ماهه منتهی به 31 شهریور 1405
A5: 2-2-1- سود سپرده بانکی
A6: شرح | C6: ='درآمد سرمایه گذاری در گواهی'!C7 -> طی شهریورماه | I6: ='درآمد سرمایه گذاری در گواهی'!M7 -> از ابتدای سال مالی تا پایان شهریور ماه
C7: درآمد سود | E7: هزینه تنزیل | G7: خالص درآمد | I7: درآمد سود | K7: هزینه تنزیل | M7: خالص درآمد
A8: بانک ملت | C8: 0 | E8: 0 | G8: =C8-E8 -> 0 | I8: 68597864 | K8: 0 | M8: =I8-K8 -> 68597864
A9: بانک پاسارگاد | C9: 5715326 | E9: 0 | G9: =C9-E9 -> 5715326 | I9: 51817037 | K9: 0 | M9: =I9-K9 -> 51817037
A10: بانک گردشگری | C10: 36627 | E10: 0 | G10: =C10-E10 -> 36627 | I10: 78540 | K10: 0 | M10: =I10-K10 -> 78540
C11: =SUM(C8:C10) -> 5751953 | E11: =SUM(E8:E10) -> 0 | G11: =SUM(G8:G10) -> 5751953 | I11: =SUM(I8:I10) -> 120493441 | K11: =SUM(K8:K10) -> 0 | M11: =SUM(M8:M10) -> 120493441
C13: 5751953 | E13: 0 | G13: =C13+E13 -> 5751953 | I13: 120493441 | K13: 0 | M13: =I13+K13 -> 120493441
C14: =C13-C11 -> 0 | E14: =E13-E11 -> 0 | G14: =G13-G11 -> 0 | I14: =I13-I11 -> 0 | K14: =K13-K11 -> 0 | M14: =M13-M11 -> 0

Sheet درآمد ناشی از تغییر قیمت 
A1: ='گواهی شمش'!A1 -> صندوق سرمایه‌گذاری کالایی درفش دماوند
A2: صورت وضعیت درآمدها
A3: =درآمد!A3 -> یک ماهه منتهی به 31 شهریور 1405
A5: 2-1-2- درآمد ناشی از تغییر قیمت گواهی سپرده هایی کالایی
A6: شرح | C6: ='درآمد سرمایه گذاری در گواهی'!C7 -> طی شهریورماه | K6: ='درآمد سرمایه گذاری در گواهی'!M7 -> از ابتدای سال مالی تا پایان شهریور ماه
C7: تعداد | E7: خالص ارزش فروش | G7: ارزش دفتری | I7: سود ناشی از تغییر قیمت | K7: تعداد | M7: خالص ارزش فروش | O7: ارزش دفتری | Q7: سود ناشی از تغییر قیمت
A8: شمش طلا GoldBar | C8: 1275128 | E8: 40413590600256 | G8: -37500975615102 | I8: =E8+G8 -> 2912614985154 | K8: 1275128 | M8: 40413590600256 | O8: -24548952608890 | Q8: =M8+O8 -> 15864637991366
A9: اختیار خرید گواهی سپرده پیوسته شمش طلای +995 GBAB05C1800 18000000-1405/08/19 | C9: 40425 | E9: 583504034977 | G9: -582031925394 | I9: =E9+G9 -> 1472109583 | K9: 40425 | M9: 583504034977 | O9: -489079560311 | Q9: =M9+O9 -> 94424474666
A10: اختیار خرید گواهی سپرده پیوسته شمش طلای +995 GBAB05C2200 22000000-1405/08/19 | C10: 29000 | E10: 341789302069 | G10: -257778841437 | I10: =E10+G10 -> 84010460632 | K10: 29000 | M10: 341789302069 | O10: -259626608577 | Q10: =M10+O10 -> 82162693492
A11: اختیار خرید گواهی سپرده پیوسته شمش طلای +995 GBAB05C2000 20000000-1405/08/19 | C11: 20513 | E11: 260202481880 | G11: -252021729984 | I11: =E11+G11 -> 8180751896 | K11: 20513 | M11: 260202481880 | O11: -217708326799 | Q11: =M11+O11 -> 42494155081
A12: اختیار خرید گواهی سپرده پیوسته شمش طلای +995 GBBA05C1800 18000000-1405/11/27 | C12: 13020 | E12: 229787310915 | G12: -187205976691 | I12: =E12+G12 -> 42581334224 | K12: 13020 | M12: 229787310915 | O12: -182604595312 | Q12: =M12+O12 -> 47182715603
A13: اختیار خرید گواهی سپرده پیوسته شمش طلای +995 GBOR06C2000 20000000-1406/02/18 | C13: 9500 | E13: 166050500000 | G13: -148651243592 | I13: =E13+G13 -> 17399256408 | K13: 9500 | M13: 166050500000 | O13: -148783039089 | Q13: =M13+O13 -> 17267460911
A14: اختیار خرید گواهی سپرده پیوسته شمش طلای +995 GBOR06C2200 22000000-1406/02/18 | C14: 10000 | E14: 160806800000 | G14: -148312640680 | I14: =E14+G14 -> 12494159320 | K14: 10000 | M14: 160806800000 | O14: -148312640680 | Q14: =M14+O14 -> 12494159320
A15: اختیار خرید گواهی سپرده پیوسته شمش طلای +995 GBAB05C2400 24000000-1405/08/19 | C15: 9259 | E15: 92478855008 | G15: -83238353051 | I15: =E15+G15 -> 9240501957 | K15: 9259 | M15: 92478855008 | O15: -74390676132 | Q15: =M15+O15 -> 18088178876
C16: =SUM(C8:C15) -> 1406845 | E16: =SUM(E8:E15) -> 42248209885105 | G16: =SUM(G8:G15) -> -39160216325931 | I16: =SUM(I8:I15) -> 3087993559174 | K16: =SUM(K8:K15) -> 1406845 | M16: =SUM(M8:M15) -> 42248209885105 | O16: =SUM(O8:O15) -> -26069458055790 | Q16: =SUM(Q8:Q15) -> 16178751829315
I18: 3087993559174 | Q18: 16178751829315
I19: =I18-I16 -> 0 | Q19: =Q18-Q16 -> 0

Sheet درآمد ناشی از فروش
A1: ='گواهی شمش'!A1 -> صندوق سرمایه‌گذاری کالایی درفش دماوند
A2: صورت وضعیت درآمدها
A3: =درآمد!A3 -> یک ماهه منتهی به 31 شهریور 1405
A5: 2-1-3- سود حاصل از فروش گواهی سپرده‌هایی کالایی
A6: شرح | C6: ='درآمد سرمایه گذاری در گواهی'!C7 -> طی شهریورماه | K6: ='درآمد سرمایه گذاری در گواهی'!M7 -> از ابتدای سال مالی تا پایان شهریور ماه
C7: تعداد | E7: خالص بهای فروش | G7: ارزش دفتری | I7: سود ناشی از فروش | K7: تعداد | M7: خالص بهای فروش | O7: ارزش دفتری | Q7: سود ناشی از فروش
A8: شمش طلا GoldBar | C8: 142179 | E8: 4359727415651 | G8: -2615533126587 | I8: =E8+G8 -> 1744194289064 | K8: 730297 | M8: 15597385264017 | O8: -10686868233952 | Q8: =M8+O8 -> 4910517030065
A9: سکه طلا GoldCoin | C9: 0 | E9: 0 | G9: 0 | I9: =E9-G9 -> 0 | K9: 470 | M9: 591232602928 | O9: -548848187915 | Q9: =M9+O9 -> 42384415013
A10: شمش نقره SilverBar | C10: 0 | E10: 0 | G10: 0 | I10: =E10-G10 -> 0 | K10: 7000 | M10: 38198140755 | O10: -35552408356 | Q10: =M10+O10 -> 2645732399
C11: =SUM(C8:C10) -> 142179 | E11: =SUM(E8:E10) -> 4359727415651 | G11: =SUM(G8:G10) -> -2615533126587 | I11: =SUM(I8:I10) -> 1744194289064 | K11: =SUM(K8:K10) -> 737767 | M11: =SUM(M8:M10) -> 16226816007700 | O11: =SUM(O8:O10) -> -11271268830223 | Q11: =SUM(Q8:Q10) -> 4955547177477
I13: 1744194289064 | Q13: 5082184539728
I14: =I13-I11 -> 0 | Q14: =Q13-Q11 -> 126637362251
Q15: ='درآمد اعمال اختیار'!K25 -> 126637362251
Q16: =Q14-Q15 -> 0

Sheet درآمد اعمال اختیار
A1: ='گواهی شمش'!A1 -> صندوق سرمایه‌گذاری کالایی درفش دماوند
A2: صورت وضعیت درآمدها
A3: ='درآمد سرمایه گذاری در گواهی'!A3 -> یک ماهه منتهی به 31 شهریور 1405
A5: 2-1-3- سود ناشی از اعمال اختیار معامله گواهی سپرده کالایی
C7: ='درآمد سرمایه گذاری در گواهی'!C7 -> طی شهریورماه | K7: ='درآمد سرمایه گذاری در گواهی'!M7 -> از ابتدای سال مالی تا پایان شهریور ماه
A8: نام اختیار | C8: تعداد | E8: تاریخ اعمال | G8: کارمزد اعمال | I8: سوداعمال | K8: سوداعمال
A9: اختیار خرید گواهی سپرده پیوسته شمش طلای +995 GBAB05C1800 18000000-1405/08/19 | C9: 18000000 | E9: 1405/08/19 | G9: -838512000 | I9: 32721479919 | K9: 32921717781
A10: اختیار خرید گواهی سپرده پیوسته شمش طلای +995 GBBA04C900 9000000-1404/11/19 | C10: 9000000 | E10: 1404/11/19 | G10: -137303100 | I10: 0 | K10: 21986883549
A11: اختیار خرید گواهی سپرده پیوسته شمش طلای +995 GBBA04C1050 10500000-1404/11/19 | C11: 105000000 | E11: 1404/11/19 | G11: -107896320 | I11: 0 | K11: 13506334256
A12: اختیار خرید گواهی سپرده پیوسته شمش طلای +995 GBBA04C800 8000000-1404/11/19 | C12: 8000000 | E12: 1404/11/19 | G12: -74201400 | I12: 0 | K12: 12192942597
A13: اختیار خرید گواهی سپرده پیوسته شمش طلای +995 GBAB04C800 8000000-1404/08/18 | C13: 8000000 | E13: 1404/08/18 | G13: -354630360 | I13: 0 | K13: 11623371119
A14: اختیار خرید گواهی سپرده پیوسته شمش طلای +995 GBAB04C900 9000000-1404/08/18 | C14: 9000000 | E14: 1404/08/18 | G14: -295557060 | I14: 0 | K14: 9403317173
A15: اختیار خرید گواهی سپرده پیوسته شمش طلای +995 GBBA04C950 9500000-1404/11/19 | C15: 95000000 | E15: 1404/11/19 | G15: -44396100 | I15: 0 | K15: 7953236119
A16: اختیار خرید گواهی سپرده پیوسته شمش طلای +995 GBBA04C1000 10000000-1404/11/19 | C16: 10000000 | E16: 1404/11/19 | G16: -56758800 | I16: 0 | K16: 7851327396
A17: اختیار خرید گواهی سپرده پیوسته شمش طلای +995 GBAB04C950 9500000-1404/08/18 | C17: 95000000 | E17: 1404/08/18 | G17: -111198780 | I17: 0 | K17: 3737822385
A18: اختیار خرید گواهی سپرده پیوسته شمش طلای +995 GBAB04C1000 10000000-1404/08/18 | C18: 10000000 | E18: 1404/08/18 | G18: -57145440 | I18: 0 | K18: 2323243497
A19: اختیار خرید گواهی سپرده پیوسته شمش طلای +995 GBAB04C1100 11000000-1404/08/18 | C19: 11000000 | E19: 1404/08/18 | G19: -21426480 | I19: 0 | K19: 993815288
A20: اختیار خرید گواهی سپرده پیوسته شمش طلای +995 GBAB04C1050 10500000-1404/08/18 | C20: 105000000 | E20: 1404/08/18 | G20: -25074240 | I20: 0 | K20: 950536282
... A24: اختیار خرید گواهی سپرده پیوسته شمش طلای +995 GBAB05C2000 20000000-1405/08/19 | C24: 20000000 | E24: 1405/08/19 | G24: -424792 | I24: 21439723 | K24: 24827844
G25: =SUM(G9:G24) -> -2158240408 | I25: =SUM(I9:I24) -> 33086254101 | K25: =SUM(K9:K24) -> 126637362251
I27: 33086254101 | K27: 126637362251
I28: =I27-I25 -> 0 | K28: =K27-K25 -> 0
